BEGIN:VCALENDAR
VERSION:2.0
PRODID:-//AZCMC - ECPv6.15.17.1//NONSGML v1.0//EN
CALSCALE:GREGORIAN
METHOD:PUBLISH
X-WR-CALNAME:AZCMC
X-ORIGINAL-URL:https://azcmc.org
X-WR-CALDESC:Events for AZCMC
REFRESH-INTERVAL;VALUE=DURATION:PT1H
X-Robots-Tag:noindex
X-PUBLISHED-TTL:PT1H
BEGIN:VTIMEZONE
TZID:America/Phoenix
BEGIN:STANDARD
TZOFFSETFROM:-0700
TZOFFSETTO:-0700
TZNAME:MST
DTSTART:20290101T000000
END:STANDARD
END:VTIMEZONE
BEGIN:VEVENT
DTSTART;TZID=America/Phoenix:20300705T180000
DTEND;TZID=America/Phoenix:20300705T210000
DTSTAMP:20260421T023055
CREATED:20250203T011020Z
LAST-MODIFIED:20250203T011352Z
UID:10023923-1909504800-1909515600@azcmc.org
SUMMARY:OLD BASTARDS MC-TUCSON **BIKE NIGHT**
DESCRIPTION:SEE FLYER.
URL:https://azcmc.org/event/old-bastards-mc-tucson-bike-night/2030-07-05/
LOCATION:Silver Room Bar\, 673 S Plumer Ave\, Tucson\, 85719\, United States
CATEGORIES:Bike Night
ATTACH;FMTTYPE=image/jpeg:https://azcmc.org/wp-content/uploads/2025/02/bastards.jpeg
GEO:32.2135482;-110.9392541
X-APPLE-STRUCTURED-LOCATION;VALUE=URI;X-ADDRESS=Silver Room Bar 673 S Plumer Ave Tucson 85719 United States;X-APPLE-RADIUS=500;X-TITLE=673 S Plumer Ave:geo:-110.9392541,32.2135482
END:VEVENT
BEGIN:VEVENT
DTSTART;TZID=America/Phoenix:20300719T180000
DTEND;TZID=America/Phoenix:20300719T210000
DTSTAMP:20260421T023055
CREATED:20250203T011614Z
LAST-MODIFIED:20250203T011940Z
UID:10023954-1910714400-1910725200@azcmc.org
SUMMARY:OLD BASTARDS MC-TUCSON **BIKE NIGHT**
DESCRIPTION:SEE FLYER.
URL:https://azcmc.org/event/old-bastards-mc-tucson-bike-night-2/2030-07-19/
LOCATION:Silver Room Bar\, 673 S Plumer Ave\, Tucson\, 85719\, United States
CATEGORIES:Bike Night
ATTACH;FMTTYPE=image/jpeg:https://azcmc.org/wp-content/uploads/2025/02/bastards.jpeg
GEO:32.2135482;-110.9392541
X-APPLE-STRUCTURED-LOCATION;VALUE=URI;X-ADDRESS=Silver Room Bar 673 S Plumer Ave Tucson 85719 United States;X-APPLE-RADIUS=500;X-TITLE=673 S Plumer Ave:geo:-110.9392541,32.2135482
END:VEVENT
BEGIN:VEVENT
DTSTART;TZID=America/Phoenix:20300802T180000
DTEND;TZID=America/Phoenix:20300802T210000
DTSTAMP:20260421T023055
CREATED:20250203T011020Z
LAST-MODIFIED:20250203T011352Z
UID:10023924-1911924000-1911934800@azcmc.org
SUMMARY:OLD BASTARDS MC-TUCSON **BIKE NIGHT**
DESCRIPTION:SEE FLYER.
URL:https://azcmc.org/event/old-bastards-mc-tucson-bike-night/2030-08-02/
LOCATION:Silver Room Bar\, 673 S Plumer Ave\, Tucson\, 85719\, United States
CATEGORIES:Bike Night
ATTACH;FMTTYPE=image/jpeg:https://azcmc.org/wp-content/uploads/2025/02/bastards.jpeg
GEO:32.2135482;-110.9392541
X-APPLE-STRUCTURED-LOCATION;VALUE=URI;X-ADDRESS=Silver Room Bar 673 S Plumer Ave Tucson 85719 United States;X-APPLE-RADIUS=500;X-TITLE=673 S Plumer Ave:geo:-110.9392541,32.2135482
END:VEVENT
BEGIN:VEVENT
DTSTART;TZID=America/Phoenix:20300816T180000
DTEND;TZID=America/Phoenix:20300816T210000
DTSTAMP:20260421T023055
CREATED:20250203T011614Z
LAST-MODIFIED:20250203T011940Z
UID:10023955-1913133600-1913144400@azcmc.org
SUMMARY:OLD BASTARDS MC-TUCSON **BIKE NIGHT**
DESCRIPTION:SEE FLYER.
URL:https://azcmc.org/event/old-bastards-mc-tucson-bike-night-2/2030-08-16/
LOCATION:Silver Room Bar\, 673 S Plumer Ave\, Tucson\, 85719\, United States
CATEGORIES:Bike Night
ATTACH;FMTTYPE=image/jpeg:https://azcmc.org/wp-content/uploads/2025/02/bastards.jpeg
GEO:32.2135482;-110.9392541
X-APPLE-STRUCTURED-LOCATION;VALUE=URI;X-ADDRESS=Silver Room Bar 673 S Plumer Ave Tucson 85719 United States;X-APPLE-RADIUS=500;X-TITLE=673 S Plumer Ave:geo:-110.9392541,32.2135482
END:VEVENT
BEGIN:VEVENT
DTSTART;TZID=America/Phoenix:20300906T180000
DTEND;TZID=America/Phoenix:20300906T210000
DTSTAMP:20260421T023055
CREATED:20250203T011020Z
LAST-MODIFIED:20250203T011352Z
UID:10023925-1914948000-1914958800@azcmc.org
SUMMARY:OLD BASTARDS MC-TUCSON **BIKE NIGHT**
DESCRIPTION:SEE FLYER.
URL:https://azcmc.org/event/old-bastards-mc-tucson-bike-night/2030-09-06/
LOCATION:Silver Room Bar\, 673 S Plumer Ave\, Tucson\, 85719\, United States
CATEGORIES:Bike Night
ATTACH;FMTTYPE=image/jpeg:https://azcmc.org/wp-content/uploads/2025/02/bastards.jpeg
GEO:32.2135482;-110.9392541
X-APPLE-STRUCTURED-LOCATION;VALUE=URI;X-ADDRESS=Silver Room Bar 673 S Plumer Ave Tucson 85719 United States;X-APPLE-RADIUS=500;X-TITLE=673 S Plumer Ave:geo:-110.9392541,32.2135482
END:VEVENT
BEGIN:VEVENT
DTSTART;TZID=America/Phoenix:20300920T180000
DTEND;TZID=America/Phoenix:20300920T210000
DTSTAMP:20260421T023055
CREATED:20250203T011614Z
LAST-MODIFIED:20250203T011940Z
UID:10023956-1916157600-1916168400@azcmc.org
SUMMARY:OLD BASTARDS MC-TUCSON **BIKE NIGHT**
DESCRIPTION:SEE FLYER.
URL:https://azcmc.org/event/old-bastards-mc-tucson-bike-night-2/2030-09-20/
LOCATION:Silver Room Bar\, 673 S Plumer Ave\, Tucson\, 85719\, United States
CATEGORIES:Bike Night
ATTACH;FMTTYPE=image/jpeg:https://azcmc.org/wp-content/uploads/2025/02/bastards.jpeg
GEO:32.2135482;-110.9392541
X-APPLE-STRUCTURED-LOCATION;VALUE=URI;X-ADDRESS=Silver Room Bar 673 S Plumer Ave Tucson 85719 United States;X-APPLE-RADIUS=500;X-TITLE=673 S Plumer Ave:geo:-110.9392541,32.2135482
END:VEVENT
BEGIN:VEVENT
DTSTART;TZID=America/Phoenix:20301004T180000
DTEND;TZID=America/Phoenix:20301004T210000
DTSTAMP:20260421T023055
CREATED:20250203T011020Z
LAST-MODIFIED:20250203T011352Z
UID:10023926-1917367200-1917378000@azcmc.org
SUMMARY:OLD BASTARDS MC-TUCSON **BIKE NIGHT**
DESCRIPTION:SEE FLYER.
URL:https://azcmc.org/event/old-bastards-mc-tucson-bike-night/2030-10-04/
LOCATION:Silver Room Bar\, 673 S Plumer Ave\, Tucson\, 85719\, United States
CATEGORIES:Bike Night
ATTACH;FMTTYPE=image/jpeg:https://azcmc.org/wp-content/uploads/2025/02/bastards.jpeg
GEO:32.2135482;-110.9392541
X-APPLE-STRUCTURED-LOCATION;VALUE=URI;X-ADDRESS=Silver Room Bar 673 S Plumer Ave Tucson 85719 United States;X-APPLE-RADIUS=500;X-TITLE=673 S Plumer Ave:geo:-110.9392541,32.2135482
END:VEVENT
BEGIN:VEVENT
DTSTART;TZID=America/Phoenix:20301018T180000
DTEND;TZID=America/Phoenix:20301018T210000
DTSTAMP:20260421T023055
CREATED:20250203T011614Z
LAST-MODIFIED:20250203T011940Z
UID:10023957-1918576800-1918587600@azcmc.org
SUMMARY:OLD BASTARDS MC-TUCSON **BIKE NIGHT**
DESCRIPTION:SEE FLYER.
URL:https://azcmc.org/event/old-bastards-mc-tucson-bike-night-2/2030-10-18/
LOCATION:Silver Room Bar\, 673 S Plumer Ave\, Tucson\, 85719\, United States
CATEGORIES:Bike Night
ATTACH;FMTTYPE=image/jpeg:https://azcmc.org/wp-content/uploads/2025/02/bastards.jpeg
GEO:32.2135482;-110.9392541
X-APPLE-STRUCTURED-LOCATION;VALUE=URI;X-ADDRESS=Silver Room Bar 673 S Plumer Ave Tucson 85719 United States;X-APPLE-RADIUS=500;X-TITLE=673 S Plumer Ave:geo:-110.9392541,32.2135482
END:VEVENT
BEGIN:VEVENT
DTSTART;TZID=America/Phoenix:20301101T180000
DTEND;TZID=America/Phoenix:20301101T210000
DTSTAMP:20260421T023055
CREATED:20250203T011020Z
LAST-MODIFIED:20250203T011352Z
UID:10023927-1919786400-1919797200@azcmc.org
SUMMARY:OLD BASTARDS MC-TUCSON **BIKE NIGHT**
DESCRIPTION:SEE FLYER.
URL:https://azcmc.org/event/old-bastards-mc-tucson-bike-night/2030-11-01/
LOCATION:Silver Room Bar\, 673 S Plumer Ave\, Tucson\, 85719\, United States
CATEGORIES:Bike Night
ATTACH;FMTTYPE=image/jpeg:https://azcmc.org/wp-content/uploads/2025/02/bastards.jpeg
GEO:32.2135482;-110.9392541
X-APPLE-STRUCTURED-LOCATION;VALUE=URI;X-ADDRESS=Silver Room Bar 673 S Plumer Ave Tucson 85719 United States;X-APPLE-RADIUS=500;X-TITLE=673 S Plumer Ave:geo:-110.9392541,32.2135482
END:VEVENT
BEGIN:VEVENT
DTSTART;TZID=America/Phoenix:20301115T180000
DTEND;TZID=America/Phoenix:20301115T210000
DTSTAMP:20260421T023055
CREATED:20250203T011614Z
LAST-MODIFIED:20250203T011940Z
UID:10023958-1920996000-1921006800@azcmc.org
SUMMARY:OLD BASTARDS MC-TUCSON **BIKE NIGHT**
DESCRIPTION:SEE FLYER.
URL:https://azcmc.org/event/old-bastards-mc-tucson-bike-night-2/2030-11-15/
LOCATION:Silver Room Bar\, 673 S Plumer Ave\, Tucson\, 85719\, United States
CATEGORIES:Bike Night
ATTACH;FMTTYPE=image/jpeg:https://azcmc.org/wp-content/uploads/2025/02/bastards.jpeg
GEO:32.2135482;-110.9392541
X-APPLE-STRUCTURED-LOCATION;VALUE=URI;X-ADDRESS=Silver Room Bar 673 S Plumer Ave Tucson 85719 United States;X-APPLE-RADIUS=500;X-TITLE=673 S Plumer Ave:geo:-110.9392541,32.2135482
END:VEVENT
BEGIN:VEVENT
DTSTART;TZID=America/Phoenix:20301206T180000
DTEND;TZID=America/Phoenix:20301206T210000
DTSTAMP:20260421T023055
CREATED:20250203T011020Z
LAST-MODIFIED:20250203T011352Z
UID:10023928-1922810400-1922821200@azcmc.org
SUMMARY:OLD BASTARDS MC-TUCSON **BIKE NIGHT**
DESCRIPTION:SEE FLYER.
URL:https://azcmc.org/event/old-bastards-mc-tucson-bike-night/2030-12-06/
LOCATION:Silver Room Bar\, 673 S Plumer Ave\, Tucson\, 85719\, United States
CATEGORIES:Bike Night
ATTACH;FMTTYPE=image/jpeg:https://azcmc.org/wp-content/uploads/2025/02/bastards.jpeg
GEO:32.2135482;-110.9392541
X-APPLE-STRUCTURED-LOCATION;VALUE=URI;X-ADDRESS=Silver Room Bar 673 S Plumer Ave Tucson 85719 United States;X-APPLE-RADIUS=500;X-TITLE=673 S Plumer Ave:geo:-110.9392541,32.2135482
END:VEVENT
BEGIN:VEVENT
DTSTART;TZID=America/Phoenix:20301220T180000
DTEND;TZID=America/Phoenix:20301220T210000
DTSTAMP:20260421T023055
CREATED:20250203T011614Z
LAST-MODIFIED:20250203T011940Z
UID:10023959-1924020000-1924030800@azcmc.org
SUMMARY:OLD BASTARDS MC-TUCSON **BIKE NIGHT**
DESCRIPTION:SEE FLYER.
URL:https://azcmc.org/event/old-bastards-mc-tucson-bike-night-2/2030-12-20/
LOCATION:Silver Room Bar\, 673 S Plumer Ave\, Tucson\, 85719\, United States
CATEGORIES:Bike Night
ATTACH;FMTTYPE=image/jpeg:https://azcmc.org/wp-content/uploads/2025/02/bastards.jpeg
GEO:32.2135482;-110.9392541
X-APPLE-STRUCTURED-LOCATION;VALUE=URI;X-ADDRESS=Silver Room Bar 673 S Plumer Ave Tucson 85719 United States;X-APPLE-RADIUS=500;X-TITLE=673 S Plumer Ave:geo:-110.9392541,32.2135482
END:VEVENT
BEGIN:VEVENT
DTSTART;TZID=America/Phoenix:20310103T180000
DTEND;TZID=America/Phoenix:20310103T210000
DTSTAMP:20260421T023055
CREATED:20250203T011020Z
LAST-MODIFIED:20250203T011352Z
UID:10023929-1925229600-1925240400@azcmc.org
SUMMARY:OLD BASTARDS MC-TUCSON **BIKE NIGHT**
DESCRIPTION:SEE FLYER.
URL:https://azcmc.org/event/old-bastards-mc-tucson-bike-night/2031-01-03/
LOCATION:Silver Room Bar\, 673 S Plumer Ave\, Tucson\, 85719\, United States
CATEGORIES:Bike Night
ATTACH;FMTTYPE=image/jpeg:https://azcmc.org/wp-content/uploads/2025/02/bastards.jpeg
GEO:32.2135482;-110.9392541
X-APPLE-STRUCTURED-LOCATION;VALUE=URI;X-ADDRESS=Silver Room Bar 673 S Plumer Ave Tucson 85719 United States;X-APPLE-RADIUS=500;X-TITLE=673 S Plumer Ave:geo:-110.9392541,32.2135482
END:VEVENT
BEGIN:VEVENT
DTSTART;TZID=America/Phoenix:20310117T180000
DTEND;TZID=America/Phoenix:20310117T210000
DTSTAMP:20260421T023055
CREATED:20250203T011614Z
LAST-MODIFIED:20250203T011940Z
UID:10023960-1926439200-1926450000@azcmc.org
SUMMARY:OLD BASTARDS MC-TUCSON **BIKE NIGHT**
DESCRIPTION:SEE FLYER.
URL:https://azcmc.org/event/old-bastards-mc-tucson-bike-night-2/2031-01-17/
LOCATION:Silver Room Bar\, 673 S Plumer Ave\, Tucson\, 85719\, United States
CATEGORIES:Bike Night
ATTACH;FMTTYPE=image/jpeg:https://azcmc.org/wp-content/uploads/2025/02/bastards.jpeg
GEO:32.2135482;-110.9392541
X-APPLE-STRUCTURED-LOCATION;VALUE=URI;X-ADDRESS=Silver Room Bar 673 S Plumer Ave Tucson 85719 United States;X-APPLE-RADIUS=500;X-TITLE=673 S Plumer Ave:geo:-110.9392541,32.2135482
END:VEVENT
BEGIN:VEVENT
DTSTART;TZID=America/Phoenix:20310207T180000
DTEND;TZID=America/Phoenix:20310207T210000
DTSTAMP:20260421T023055
CREATED:20250203T011020Z
LAST-MODIFIED:20250203T011352Z
UID:10023930-1928253600-1928264400@azcmc.org
SUMMARY:OLD BASTARDS MC-TUCSON **BIKE NIGHT**
DESCRIPTION:SEE FLYER.
URL:https://azcmc.org/event/old-bastards-mc-tucson-bike-night/2031-02-07/
LOCATION:Silver Room Bar\, 673 S Plumer Ave\, Tucson\, 85719\, United States
CATEGORIES:Bike Night
ATTACH;FMTTYPE=image/jpeg:https://azcmc.org/wp-content/uploads/2025/02/bastards.jpeg
GEO:32.2135482;-110.9392541
X-APPLE-STRUCTURED-LOCATION;VALUE=URI;X-ADDRESS=Silver Room Bar 673 S Plumer Ave Tucson 85719 United States;X-APPLE-RADIUS=500;X-TITLE=673 S Plumer Ave:geo:-110.9392541,32.2135482
END:VEVENT
BEGIN:VEVENT
DTSTART;TZID=America/Phoenix:20310221T180000
DTEND;TZID=America/Phoenix:20310221T210000
DTSTAMP:20260421T023055
CREATED:20250203T011614Z
LAST-MODIFIED:20250203T011940Z
UID:10023961-1929463200-1929474000@azcmc.org
SUMMARY:OLD BASTARDS MC-TUCSON **BIKE NIGHT**
DESCRIPTION:SEE FLYER.
URL:https://azcmc.org/event/old-bastards-mc-tucson-bike-night-2/2031-02-21/
LOCATION:Silver Room Bar\, 673 S Plumer Ave\, Tucson\, 85719\, United States
CATEGORIES:Bike Night
ATTACH;FMTTYPE=image/jpeg:https://azcmc.org/wp-content/uploads/2025/02/bastards.jpeg
GEO:32.2135482;-110.9392541
X-APPLE-STRUCTURED-LOCATION;VALUE=URI;X-ADDRESS=Silver Room Bar 673 S Plumer Ave Tucson 85719 United States;X-APPLE-RADIUS=500;X-TITLE=673 S Plumer Ave:geo:-110.9392541,32.2135482
END:VEVENT
BEGIN:VEVENT
DTSTART;TZID=America/Phoenix:20310307T180000
DTEND;TZID=America/Phoenix:20310307T210000
DTSTAMP:20260421T023055
CREATED:20250203T011020Z
LAST-MODIFIED:20250203T011352Z
UID:10023992-1930672800-1930683600@azcmc.org
SUMMARY:OLD BASTARDS MC-TUCSON **BIKE NIGHT**
DESCRIPTION:SEE FLYER.
URL:https://azcmc.org/event/old-bastards-mc-tucson-bike-night/2031-03-07/
LOCATION:Silver Room Bar\, 673 S Plumer Ave\, Tucson\, 85719\, United States
CATEGORIES:Bike Night
ATTACH;FMTTYPE=image/jpeg:https://azcmc.org/wp-content/uploads/2025/02/bastards.jpeg
GEO:32.2135482;-110.9392541
X-APPLE-STRUCTURED-LOCATION;VALUE=URI;X-ADDRESS=Silver Room Bar 673 S Plumer Ave Tucson 85719 United States;X-APPLE-RADIUS=500;X-TITLE=673 S Plumer Ave:geo:-110.9392541,32.2135482
END:VEVENT
BEGIN:VEVENT
DTSTART;TZID=America/Phoenix:20310321T180000
DTEND;TZID=America/Phoenix:20310321T210000
DTSTAMP:20260421T023055
CREATED:20250203T011614Z
LAST-MODIFIED:20250203T011940Z
UID:10024003-1931882400-1931893200@azcmc.org
SUMMARY:OLD BASTARDS MC-TUCSON **BIKE NIGHT**
DESCRIPTION:SEE FLYER.
URL:https://azcmc.org/event/old-bastards-mc-tucson-bike-night-2/2031-03-21/
LOCATION:Silver Room Bar\, 673 S Plumer Ave\, Tucson\, 85719\, United States
CATEGORIES:Bike Night
ATTACH;FMTTYPE=image/jpeg:https://azcmc.org/wp-content/uploads/2025/02/bastards.jpeg
GEO:32.2135482;-110.9392541
X-APPLE-STRUCTURED-LOCATION;VALUE=URI;X-ADDRESS=Silver Room Bar 673 S Plumer Ave Tucson 85719 United States;X-APPLE-RADIUS=500;X-TITLE=673 S Plumer Ave:geo:-110.9392541,32.2135482
END:VEVENT
BEGIN:VEVENT
DTSTART;TZID=America/Phoenix:20310404T180000
DTEND;TZID=America/Phoenix:20310404T210000
DTSTAMP:20260421T023055
CREATED:20250203T011020Z
LAST-MODIFIED:20250203T011352Z
UID:10024142-1933092000-1933102800@azcmc.org
SUMMARY:OLD BASTARDS MC-TUCSON **BIKE NIGHT**
DESCRIPTION:SEE FLYER.
URL:https://azcmc.org/event/old-bastards-mc-tucson-bike-night/2031-04-04/
LOCATION:Silver Room Bar\, 673 S Plumer Ave\, Tucson\, 85719\, United States
CATEGORIES:Bike Night
ATTACH;FMTTYPE=image/jpeg:https://azcmc.org/wp-content/uploads/2025/02/bastards.jpeg
GEO:32.2135482;-110.9392541
X-APPLE-STRUCTURED-LOCATION;VALUE=URI;X-ADDRESS=Silver Room Bar 673 S Plumer Ave Tucson 85719 United States;X-APPLE-RADIUS=500;X-TITLE=673 S Plumer Ave:geo:-110.9392541,32.2135482
END:VEVENT
BEGIN:VEVENT
DTSTART;TZID=America/Phoenix:20310418T180000
DTEND;TZID=America/Phoenix:20310418T210000
DTSTAMP:20260421T023055
CREATED:20250203T011614Z
LAST-MODIFIED:20250203T011940Z
UID:10024147-1934301600-1934312400@azcmc.org
SUMMARY:OLD BASTARDS MC-TUCSON **BIKE NIGHT**
DESCRIPTION:SEE FLYER.
URL:https://azcmc.org/event/old-bastards-mc-tucson-bike-night-2/2031-04-18/
LOCATION:Silver Room Bar\, 673 S Plumer Ave\, Tucson\, 85719\, United States
CATEGORIES:Bike Night
ATTACH;FMTTYPE=image/jpeg:https://azcmc.org/wp-content/uploads/2025/02/bastards.jpeg
GEO:32.2135482;-110.9392541
X-APPLE-STRUCTURED-LOCATION;VALUE=URI;X-ADDRESS=Silver Room Bar 673 S Plumer Ave Tucson 85719 United States;X-APPLE-RADIUS=500;X-TITLE=673 S Plumer Ave:geo:-110.9392541,32.2135482
END:VEVENT
END:VCALENDAR