BEGIN:VCALENDAR
VERSION:2.0
PRODID:-//AZCMC - ECPv6.15.17.1//NONSGML v1.0//EN
CALSCALE:GREGORIAN
METHOD:PUBLISH
X-ORIGINAL-URL:https://azcmc.org
X-WR-CALDESC:Events for AZCMC
REFRESH-INTERVAL;VALUE=DURATION:PT1H
X-Robots-Tag:noindex
X-PUBLISHED-TTL:PT1H
BEGIN:VTIMEZONE
TZID:America/Phoenix
BEGIN:STANDARD
TZOFFSETFROM:-0700
TZOFFSETTO:-0700
TZNAME:MST
DTSTART:20240101T000000
END:STANDARD
END:VTIMEZONE
BEGIN:VEVENT
DTSTART;TZID=America/Phoenix:20260417T190000
DTEND;TZID=America/Phoenix:20260417T233000
DTSTAMP:20260424T081836
CREATED:20251126T205530Z
LAST-MODIFIED:20251126T205718Z
UID:10023772-1776452400-1776468600@azcmc.org
SUMMARY:HELLS ANGELS MC-PHX **OPEN HOUSE**
DESCRIPTION:Phoenix\, AZ- This open house is the third Friday of every month we would would like to see as many clubs present. \nThanks for your support Johnny President HAMCPHX
URL:https://azcmc.org/event/hells-angels-mc-phx-open-house-2025-2/2026-04-17/
LOCATION:Hells Angels – Phoenix Clubhouse\, 147 W Mohave St\, Phoenix\, AZ\, United States
CATEGORIES:Open House
GEO:33.4310196;-112.0771074
X-APPLE-STRUCTURED-LOCATION;VALUE=URI;X-ADDRESS=Hells Angels – Phoenix Clubhouse 147 W Mohave St Phoenix AZ United States;X-APPLE-RADIUS=500;X-TITLE=147 W Mohave St:geo:-112.0771074,33.4310196
END:VEVENT
BEGIN:VEVENT
DTSTART;TZID=America/Phoenix:20260320T190000
DTEND;TZID=America/Phoenix:20260320T233000
DTSTAMP:20260424T081836
CREATED:20251126T205530Z
LAST-MODIFIED:20251126T205718Z
UID:10023771-1774033200-1774049400@azcmc.org
SUMMARY:HELLS ANGELS MC-PHX **OPEN HOUSE**
DESCRIPTION:Phoenix\, AZ- This open house is the third Friday of every month we would would like to see as many clubs present. \nThanks for your support Johnny President HAMCPHX
URL:https://azcmc.org/event/hells-angels-mc-phx-open-house-2025-2/2026-03-20/
LOCATION:Hells Angels – Phoenix Clubhouse\, 147 W Mohave St\, Phoenix\, AZ\, United States
CATEGORIES:Open House
GEO:33.4310196;-112.0771074
X-APPLE-STRUCTURED-LOCATION;VALUE=URI;X-ADDRESS=Hells Angels – Phoenix Clubhouse 147 W Mohave St Phoenix AZ United States;X-APPLE-RADIUS=500;X-TITLE=147 W Mohave St:geo:-112.0771074,33.4310196
END:VEVENT
BEGIN:VEVENT
DTSTART;TZID=America/Phoenix:20260220T190000
DTEND;TZID=America/Phoenix:20260220T233000
DTSTAMP:20260424T081836
CREATED:20251126T205530Z
LAST-MODIFIED:20251126T205718Z
UID:10023770-1771614000-1771630200@azcmc.org
SUMMARY:HELLS ANGELS MC-PHX **OPEN HOUSE**
DESCRIPTION:Phoenix\, AZ- This open house is the third Friday of every month we would would like to see as many clubs present. \nThanks for your support Johnny President HAMCPHX
URL:https://azcmc.org/event/hells-angels-mc-phx-open-house-2025-2/2026-02-20/
LOCATION:Hells Angels – Phoenix Clubhouse\, 147 W Mohave St\, Phoenix\, AZ\, United States
CATEGORIES:Open House
GEO:33.4310196;-112.0771074
X-APPLE-STRUCTURED-LOCATION;VALUE=URI;X-ADDRESS=Hells Angels – Phoenix Clubhouse 147 W Mohave St Phoenix AZ United States;X-APPLE-RADIUS=500;X-TITLE=147 W Mohave St:geo:-112.0771074,33.4310196
END:VEVENT
BEGIN:VEVENT
DTSTART;TZID=America/Phoenix:20260116T190000
DTEND;TZID=America/Phoenix:20260116T233000
DTSTAMP:20260424T081836
CREATED:20251126T205530Z
LAST-MODIFIED:20251126T205718Z
UID:10023769-1768590000-1768606200@azcmc.org
SUMMARY:HELLS ANGELS MC-PHX **OPEN HOUSE**
DESCRIPTION:Phoenix\, AZ- This open house is the third Friday of every month we would would like to see as many clubs present. \nThanks for your support Johnny President HAMCPHX
URL:https://azcmc.org/event/hells-angels-mc-phx-open-house-2025-2/2026-01-16/
LOCATION:Hells Angels – Phoenix Clubhouse\, 147 W Mohave St\, Phoenix\, AZ\, United States
CATEGORIES:Open House
GEO:33.4310196;-112.0771074
X-APPLE-STRUCTURED-LOCATION;VALUE=URI;X-ADDRESS=Hells Angels – Phoenix Clubhouse 147 W Mohave St Phoenix AZ United States;X-APPLE-RADIUS=500;X-TITLE=147 W Mohave St:geo:-112.0771074,33.4310196
END:VEVENT
BEGIN:VEVENT
DTSTART;TZID=America/Phoenix:20251219T190000
DTEND;TZID=America/Phoenix:20251219T233000
DTSTAMP:20260424T081836
CREATED:20251126T205530Z
LAST-MODIFIED:20251126T205718Z
UID:10023768-1766170800-1766187000@azcmc.org
SUMMARY:HELLS ANGELS MC-PHX **OPEN HOUSE**
DESCRIPTION:Phoenix\, AZ- This open house is the third Friday of every month we would would like to see as many clubs present. \nThanks for your support Johnny President HAMCPHX
URL:https://azcmc.org/event/hells-angels-mc-phx-open-house-2025-2/2025-12-19/
LOCATION:Hells Angels – Phoenix Clubhouse\, 147 W Mohave St\, Phoenix\, AZ\, United States
CATEGORIES:Open House
GEO:33.4310196;-112.0771074
X-APPLE-STRUCTURED-LOCATION;VALUE=URI;X-ADDRESS=Hells Angels – Phoenix Clubhouse 147 W Mohave St Phoenix AZ United States;X-APPLE-RADIUS=500;X-TITLE=147 W Mohave St:geo:-112.0771074,33.4310196
END:VEVENT
END:VCALENDAR