BEGIN:VCALENDAR
VERSION:2.0
PRODID:-//AZCMC - ECPv6.15.17.1//NONSGML v1.0//EN
CALSCALE:GREGORIAN
METHOD:PUBLISH
X-ORIGINAL-URL:https://azcmc.org
X-WR-CALDESC:Events for AZCMC
REFRESH-INTERVAL;VALUE=DURATION:PT1H
X-Robots-Tag:noindex
X-PUBLISHED-TTL:PT1H
BEGIN:VTIMEZONE
TZID:America/Phoenix
BEGIN:STANDARD
TZOFFSETFROM:-0700
TZOFFSETTO:-0700
TZNAME:MST
DTSTART:20250101T000000
END:STANDARD
END:VTIMEZONE
BEGIN:VEVENT
DTSTART;TZID=America/Phoenix:20260418T180000
DTEND;TZID=America/Phoenix:20260418T233000
DTSTAMP:20260424T073948
CREATED:20260115T013738Z
LAST-MODIFIED:20260309T022004Z
UID:10023866-1776535200-1776555000@azcmc.org
SUMMARY:COCHISE RIDERS **MEMORIAL PARTY**
DESCRIPTION:
URL:https://azcmc.org/event/cochise-riders-memorial-party/
LOCATION:PC’s Lounge\, 4700 AZ-90\, Sierra Vista\, Arizona\, 85635
CATEGORIES:Main Event
ATTACH;FMTTYPE=image/jpeg:https://azcmc.org/wp-content/uploads/2026/03/IMG_20260308_091552.jpg
GEO:31.5540952;-110.2499453
X-APPLE-STRUCTURED-LOCATION;VALUE=URI;X-ADDRESS=PC’s Lounge 4700 AZ-90 Sierra Vista Arizona 85635;X-APPLE-RADIUS=500;X-TITLE=4700 AZ-90:geo:-110.2499453,31.5540952
END:VEVENT
END:VCALENDAR