BEGIN:VCALENDAR
VERSION:2.0
PRODID:-//AZCMC - ECPv6.15.17.1//NONSGML v1.0//EN
CALSCALE:GREGORIAN
METHOD:PUBLISH
X-WR-CALNAME:AZCMC
X-ORIGINAL-URL:https://azcmc.org
X-WR-CALDESC:Events for AZCMC
REFRESH-INTERVAL;VALUE=DURATION:PT1H
X-Robots-Tag:noindex
X-PUBLISHED-TTL:PT1H
BEGIN:VTIMEZONE
TZID:America/Phoenix
BEGIN:STANDARD
TZOFFSETFROM:-0700
TZOFFSETTO:-0700
TZNAME:MST
DTSTART:20260101T000000
END:STANDARD
END:VTIMEZONE
BEGIN:VEVENT
DTSTART;TZID=America/Phoenix:20270526T180000
DTEND;TZID=America/Phoenix:20270526T210000
DTSTAMP:20260425T190054
CREATED:20250527T200320Z
LAST-MODIFIED:20250527T200320Z
UID:10021590-1811354400-1811365200@azcmc.org
SUMMARY:LONERS MC-SAN TAN **BIKE NIGHT**
DESCRIPTION:Come hang out and relax…good food and cold drinks…last Wednesday of every month…Thank you!!
URL:https://azcmc.org/event/loners-mc-san-tan-bike-night/2027-05-26/
LOCATION:Skippy’s Grille & Cantina\, 23858 S Power Rd\, AZ\, Queen Creek\,\, Arizona\, 85142
CATEGORIES:Bike Night
GEO:33.2321284;-111.6864813
X-APPLE-STRUCTURED-LOCATION;VALUE=URI;X-ADDRESS=Skippy’s Grille & Cantina 23858 S Power Rd AZ Queen Creek Arizona 85142;X-APPLE-RADIUS=500;X-TITLE=23858 S Power Rd\, AZ:geo:-111.6864813,33.2321284
END:VEVENT
BEGIN:VEVENT
DTSTART;TZID=America/Phoenix:20270526T190000
DTEND;TZID=America/Phoenix:20270526T233000
DTSTAMP:20260425T190054
CREATED:20251106T162047Z
LAST-MODIFIED:20251106T162048Z
UID:10010016-1811358000-1811374200@azcmc.org
SUMMARY:HOOLIGANS MC-DV **BIKE NIGHT**
DESCRIPTION:Deer Valley\, AZ- Come on out and enjoy the camaraderie\, drinks\, beverages\, snacks\, and fun!
URL:https://azcmc.org/event/hooligans-mc-dv-bn-2020-02-12-2/2027-05-26/
LOCATION:United States
CATEGORIES:Open House
END:VEVENT
BEGIN:VEVENT
DTSTART;TZID=America/Phoenix:20270528T190000
DTEND;TZID=America/Phoenix:20270528T233000
DTSTAMP:20260425T190054
CREATED:20250829T225146Z
LAST-MODIFIED:20250829T225147Z
UID:10008048-1811530800-1811547000@azcmc.org
SUMMARY:LOST DUTCHMAN-MESA **OPEN HOUSE**
DESCRIPTION:All you friends are invited to come and hang out….listen to some music\, chat with friends\, have some cold beverages\, etc. Thank you\, hope to see you.
URL:https://azcmc.org/event/ldmc-mesa-oh-3-2-2/2027-05-28/
LOCATION:Lost Dutchman MC – Mesa Clubhouse\, 1826 W Broadway Suite #42\, Mesa\, AZ\, United States
CATEGORIES:Open House
ATTACH;FMTTYPE=image/jpeg:https://azcmc.org/wp-content/uploads/2024/12/COME-GET-YOUR-GOLD.jpg
GEO:33.4095294;-111.8704852
X-APPLE-STRUCTURED-LOCATION;VALUE=URI;X-ADDRESS=Lost Dutchman MC – Mesa Clubhouse 1826 W Broadway Suite #42 Mesa AZ United States;X-APPLE-RADIUS=500;X-TITLE=1826 W Broadway Suite #42:geo:-111.8704852,33.4095294
END:VEVENT
BEGIN:VEVENT
DTSTART;TZID=America/Phoenix:20270528T200000
DTEND;TZID=America/Phoenix:20270528T233000
DTSTAMP:20260425T190054
CREATED:20250630T030350Z
LAST-MODIFIED:20250630T030630Z
UID:10022103-1811534400-1811547000@azcmc.org
SUMMARY:ALMA MC-OG **OPEN HOUSE**
DESCRIPTION:Phoenix\, AZ- 2nd and 4th Friday Every Month!Doors open at 7pm \nNo Entry Fee\,  \nBeverages\, and Entertainment \nCome Support YourLoco Black and Gold!
URL:https://azcmc.org/event/alma-original-oh-2-2-2-2/2027-05-28/
LOCATION:ALMA MC – Original Chapter\, 1446 N 27th Ave\, Phoenix\, AZ\, 85009\, United States
CATEGORIES:Open House
GEO:33.4648823;-112.1175414
X-APPLE-STRUCTURED-LOCATION;VALUE=URI;X-ADDRESS=ALMA MC – Original Chapter 1446 N 27th Ave Phoenix AZ 85009 United States;X-APPLE-RADIUS=500;X-TITLE=1446 N 27th Ave:geo:-112.1175414,33.4648823
END:VEVENT
BEGIN:VEVENT
DTSTART;TZID=America/Phoenix:20270529T110000
DTEND;TZID=America/Phoenix:20270529T130000
DTSTAMP:20260425T190054
CREATED:20220218T233340Z
LAST-MODIFIED:20240125T035232Z
UID:10008599-1811588400-1811595600@azcmc.org
SUMMARY:ACMC MEETING
DESCRIPTION:The Arizona Confederation of Motorcycle Clubs monthly meetings are to be attended by entities of the Membership of the organization only. To be invited as a guest please contact a Board Member whos numbers and email addresses can be found in a different section of this website.
URL:https://azcmc.org/event/acmc-meeting-2/2027-05-29/
CATEGORIES:Main Event
ATTACH;FMTTYPE=image/png:https://azcmc.org/wp-content/uploads/2022/01/download-4.png
END:VEVENT
END:VCALENDAR