BEGIN:VCALENDAR
VERSION:2.0
PRODID:-//AZCMC - ECPv6.15.17.1//NONSGML v1.0//EN
CALSCALE:GREGORIAN
METHOD:PUBLISH
X-ORIGINAL-URL:https://azcmc.org
X-WR-CALDESC:Events for AZCMC
REFRESH-INTERVAL;VALUE=DURATION:PT1H
X-Robots-Tag:noindex
X-PUBLISHED-TTL:PT1H
BEGIN:VTIMEZONE
TZID:America/Phoenix
BEGIN:STANDARD
TZOFFSETFROM:-0700
TZOFFSETTO:-0700
TZNAME:MST
DTSTART:20300101T000000
END:STANDARD
END:VTIMEZONE
BEGIN:VEVENT
DTSTART;TZID=America/Phoenix:20310403T170000
DTEND;TZID=America/Phoenix:20310403T233000
DTSTAMP:20260419T181104
CREATED:20190112T163651Z
LAST-MODIFIED:20240111T130020Z
UID:10024144-1933002000-1933025400@azcmc.org
SUMMARY:SUN RIDERS MC **THIRSTY THURSDAY**
DESCRIPTION:Tucson\, AZ- Come hang out with the Sun Riders MC after work and enjoy some yummy food and a cold beverage.
URL:https://azcmc.org/event/thursty-thursday-with-the-sun-riders-mc-2020-02-27/2031-04-03/
LOCATION:Sun Riders MC Clubhouse\, 7251 S. Cardinal Ave\, Tucson\, AZ\, United States
CATEGORIES:Open House
GEO:32.1198374;-111.0282013
X-APPLE-STRUCTURED-LOCATION;VALUE=URI;X-ADDRESS=Sun Riders MC Clubhouse 7251 S. Cardinal Ave Tucson AZ United States;X-APPLE-RADIUS=500;X-TITLE=7251 S. Cardinal Ave:geo:-111.0282013,32.1198374
END:VEVENT
BEGIN:VEVENT
DTSTART;TZID=America/Phoenix:20310411T180000
DTEND;TZID=America/Phoenix:20310411T233000
DTSTAMP:20260419T181104
CREATED:20240202T000919Z
LAST-MODIFIED:20240208T171804Z
UID:10024145-1933696800-1933716600@azcmc.org
SUMMARY:NOMADEN MC **OPEN HOUSE**
DESCRIPTION:Come on over to our clubhouse every second Friday of each month. Relax and have some fun.
URL:https://azcmc.org/event/nomaden-mc-open-house/2031-04-11/
LOCATION:Nomaden MC Clubhouse\, 137 N Huachuca Blvd\, Huachuca City\, AZ
CATEGORIES:Open House
GEO:31.6258605;-110.336234
X-APPLE-STRUCTURED-LOCATION;VALUE=URI;X-ADDRESS=Nomaden MC Clubhouse 137 N Huachuca Blvd Huachuca City AZ;X-APPLE-RADIUS=500;X-TITLE=137 N Huachuca Blvd:geo:-110.336234,31.6258605
END:VEVENT
BEGIN:VEVENT
DTSTART;TZID=America/Phoenix:20310416T180000
DTEND;TZID=America/Phoenix:20310416T233000
DTSTAMP:20260419T181104
CREATED:20220723T165307Z
LAST-MODIFIED:20240111T130851Z
UID:10024146-1934128800-1934148600@azcmc.org
SUMMARY:HUNS MC-TUCSON **OPEN HOUSE**
DESCRIPTION:Food and beverageswill be waiting.
URL:https://azcmc.org/event/huns-mc-tucson-open-house/2031-04-16/
LOCATION:Huns MC – Tucson Clubhouse\, 531 E Alturus St\, Tucson\, AZ\, 85705
CATEGORIES:Open House
GEO:32.2525844;-110.962237
X-APPLE-STRUCTURED-LOCATION;VALUE=URI;X-ADDRESS=Huns MC – Tucson Clubhouse 531 E Alturus St Tucson AZ 85705;X-APPLE-RADIUS=500;X-TITLE=531 E Alturus St:geo:-110.962237,32.2525844
END:VEVENT
BEGIN:VEVENT
DTSTART;TZID=America/Phoenix:20310418T190000
DTEND;TZID=America/Phoenix:20310418T233000
DTSTAMP:20260419T181104
CREATED:20231125T225401Z
LAST-MODIFIED:20231125T225401Z
UID:10024148-1934305200-1934321400@azcmc.org
SUMMARY:LOOSE CANNONS MC-APACHE JUNCTION **OPEN HOUSE**
DESCRIPTION:PLEASE SEE ATTACHED FLYER.
URL:https://azcmc.org/event/loose-cannons-mc-apache-junction-open-house-2/2031-04-18/
LOCATION:Loose Cannons MC – Apache Junction Clubhouse\, 10262 E Apache Trail\, apache Junction\, AZ
CATEGORIES:Open House
GEO:33.4158996;-111.6090131
X-APPLE-STRUCTURED-LOCATION;VALUE=URI;X-ADDRESS=Loose Cannons MC – Apache Junction Clubhouse 10262 E Apache Trail apache Junction AZ;X-APPLE-RADIUS=500;X-TITLE=10262 E Apache Trail:geo:-111.6090131,33.4158996
END:VEVENT
END:VCALENDAR