BEGIN:VCALENDAR
VERSION:2.0
PRODID:-//AZCMC - ECPv6.15.17.1//NONSGML v1.0//EN
CALSCALE:GREGORIAN
METHOD:PUBLISH
X-WR-CALNAME:AZCMC
X-ORIGINAL-URL:https://azcmc.org
X-WR-CALDESC:Events for AZCMC
REFRESH-INTERVAL;VALUE=DURATION:PT1H
X-Robots-Tag:noindex
X-PUBLISHED-TTL:PT1H
BEGIN:VTIMEZONE
TZID:America/Phoenix
BEGIN:STANDARD
TZOFFSETFROM:-0700
TZOFFSETTO:-0700
TZNAME:MST
DTSTART:20260101T000000
END:STANDARD
END:VTIMEZONE
BEGIN:VEVENT
DTSTART;TZID=America/Phoenix:20270522T170000
DTEND;TZID=America/Phoenix:20270522T230000
DTSTAMP:20260425T190008
CREATED:20260326T224917Z
LAST-MODIFIED:20260326T224917Z
UID:10024081-1811005200-1811026800@azcmc.org
SUMMARY:ROLLIN LOCO MC - OPEN HOUSE
DESCRIPTION:
URL:https://azcmc.org/event/rollin-loco-mc-open-house-2/2027-05-22/
LOCATION:Rollin Loco MC Tucson\, 1602 S Park Ave\, Tucson\, AZ\, 85713
CATEGORIES:Open House
ATTACH;FMTTYPE=image/png:https://azcmc.org/wp-content/uploads/2026/03/896aa6c2-0b0a-4cbf-9a6a-ec2b5e7a2714.png
GEO:32.2023136;-110.9563916
X-APPLE-STRUCTURED-LOCATION;VALUE=URI;X-ADDRESS=Rollin Loco MC Tucson 1602 S Park Ave Tucson AZ 85713;X-APPLE-RADIUS=500;X-TITLE=1602 S Park Ave:geo:-110.9563916,32.2023136
END:VEVENT
END:VCALENDAR